BEGIN:VCALENDAR
VERSION:2.0
PRODID:-//eventon.com NONSGML v1.0//EN
CALSCALE:GREGORIAN
METHOD:PUBLISH
BEGIN:VEVENT
UID:69e75f60c6971
DTSTAMP:20260421T112832Z
DTSTART:20260521T123000Z
DTEND:20260521T143000Z
LOCATION:Westfield Location 1029 North Road
SUMMARY:Veterans Coffee Social - Westfield
DESCRIPTION:\nhttps://www.projectnewhopema.org/event/veterans-coffee-social
 -westfield/var/ri-10.l-L1
URL:https://www.projectnewhopema.org/event/veterans-coffee-social-westfield/var/ri-10.l-L1
END:VEVENT
END:VCALENDAR