BEGIN:VCALENDAR
VERSION:2.0
PRODID:-//eventon.com NONSGML v1.0//EN
CALSCALE:GREGORIAN
METHOD:PUBLISH
BEGIN:VEVENT
UID:69e75f0ed7c53
DTSTAMP:20260421T112710Z
DTSTART:20260504T210000Z
DTEND:20260504T230000Z
LOCATION:
SUMMARY:Chair Massage with Delaney
DESCRIPTION:\nhttps://www.projectnewhopema.org/event/chair-massage-with-del
 aney/var/ri-8.l-L1
URL:https://www.projectnewhopema.org/event/chair-massage-with-delaney/var/ri-8.l-L1
END:VEVENT
END:VCALENDAR