BEGIN:VCALENDAR
VERSION:2.0
PRODID:-//eventon.com NONSGML v1.0//EN
CALSCALE:GREGORIAN
METHOD:PUBLISH
BEGIN:VEVENT
UID:69e75e13e74d7
DTSTAMP:20260421T112259Z
DTSTART:20260509T120000Z
DTEND:20260509T160000Z
LOCATION:PNH 70 James Street\,  Suite 129A\,  Worcester\,  MA 01603
SUMMARY:VA Claims Assistance
DESCRIPTION:\nhttps://www.projectnewhopema.org/event/va-claims-assistance/v
 ar/ri-20.l-L1
URL:https://www.projectnewhopema.org/event/va-claims-assistance/var/ri-20.l-L1
END:VEVENT
END:VCALENDAR