BEGIN:VCALENDAR
VERSION:2.0
PRODID:-//eventon.com NONSGML v1.0//EN
CALSCALE:GREGORIAN
METHOD:PUBLISH
BEGIN:VEVENT
UID:69e75f577bb7d
DTSTAMP:20260421T112823Z
DTSTART:20260502T130000Z
DTEND:20260502T160000Z
LOCATION:PNH 70 James Street\,  Suite 129A\,  Worcester\,  MA 01603
SUMMARY:Sully's Pantry Pick-up
DESCRIPTION:\nhttps://www.projectnewhopema.org/event/sullys-pantry-pick-up/
 var/ri-40.l-L1
URL:https://www.projectnewhopema.org/event/sullys-pantry-pick-up/var/ri-40.l-L1
END:VEVENT
END:VCALENDAR