BEGIN:VCALENDAR
VERSION:2.0
PRODID:-//eventon.com NONSGML v1.0//EN
CALSCALE:GREGORIAN
METHOD:PUBLISH
BEGIN:VEVENT
UID:69e75ee772ad1
DTSTAMP:20260421T112631Z
DTSTART:20260428T220000Z
DTEND:20260429T000000Z
LOCATION:PNH 70 James Street\,  Suite 129A\,  Worcester\,  MA 01603
SUMMARY:Veterans' Reflexology
DESCRIPTION:Experience whole body benefits through the Feet. Project New Ho
 pe\,  Inc.\,  is happy to partner with Natural Pathways to offer eight 30-m
 inute reflexology sessions to Veterans and Family members. Veterans&#8217; 
 Reflexology will be held on the fourth Tuesday of each month\,  starting in
  August 2024\,  from 6:00 &#8211; 8:00 pm.[..]\nhttps://www.projectnewhopem
 a.org/event/veterans-reflexology/var/ri-20.l-L1
URL:https://www.projectnewhopema.org/event/veterans-reflexology/var/ri-20.l-L1
END:VEVENT
END:VCALENDAR