BEGIN:VCALENDAR
VERSION:2.0
PRODID:-//eventon.com NONSGML v1.0//EN
CALSCALE:GREGORIAN
METHOD:PUBLISH
BEGIN:VEVENT
UID:69e75ee7728d6
DTSTAMP:20260421T112631Z
DTSTART:20260421T123000Z
DTEND:20260421T143000Z
LOCATION:PNH 70 James Street\,  Suite 129A\,  Worcester\,  MA 01603
SUMMARY:Veterans Coffee Social
DESCRIPTION:\nhttps://www.projectnewhopema.org/event/veterans-coffee-social
 /var/ri-34.l-L1
URL:https://www.projectnewhopema.org/event/veterans-coffee-social/var/ri-34.l-L1
END:VEVENT
END:VCALENDAR